BEGIN:VCALENDAR
VERSION:2.0
PRODID:-//Salou Congress - ECPv6.0.1.1//NONSGML v1.0//EN
CALSCALE:GREGORIAN
METHOD:PUBLISH
X-WR-CALNAME:Salou Congress
X-ORIGINAL-URL:https://magazine.saloucongress.cat
X-WR-CALDESC:Eventos para Salou Congress
REFRESH-INTERVAL;VALUE=DURATION:PT1H
X-Robots-Tag:noindex
X-PUBLISHED-TTL:PT1H
BEGIN:VTIMEZONE
TZID:UTC
BEGIN:STANDARD
TZOFFSETFROM:+0000
TZOFFSETTO:+0000
TZNAME:UTC
DTSTART:20230101T000000
END:STANDARD
END:VTIMEZONE
BEGIN:VEVENT
DTSTART;VALUE=DATE:20230206
DTEND;VALUE=DATE:20230209
DTSTAMP:20260426T062857
CREATED:20220921T161518Z
LAST-MODIFIED:20230129T132604Z
UID:1374-1675641600-1675900799@magazine.saloucongress.cat
SUMMARY:PACO CANDELA EN CONCERT
DESCRIPTION:Disposats tots a posar-nos la gorra de «candelistes» i gaudir del seu concert «Paseo por lo eterno».\nGaudirem en directe dels seus èxits més grans i nous temes.\nUn concert organitzat per Radio TeleTaxi. \n \n  \n  \n  \nSalouCongressEquip de redacció
URL:https://magazine.saloucongress.cat/event/paco-candela-en-concert/
ATTACH;FMTTYPE=image/jpeg:https://magazine.saloucongress.cat/wp-content/uploads/2022/09/PACO-CANDELA-2-scaled-1-e1707828587626.jpg
END:VEVENT
END:VCALENDAR