BEGIN:VCALENDAR
VERSION:2.0
PRODID:-//Salou Congress - ECPv6.0.1.1//NONSGML v1.0//EN
CALSCALE:GREGORIAN
METHOD:PUBLISH
X-ORIGINAL-URL:https://magazine.saloucongress.cat
X-WR-CALDESC:Eventos para Salou Congress
REFRESH-INTERVAL;VALUE=DURATION:PT1H
X-Robots-Tag:noindex
X-PUBLISHED-TTL:PT1H
BEGIN:VTIMEZONE
TZID:Europe/Madrid
BEGIN:DAYLIGHT
TZOFFSETFROM:+0100
TZOFFSETTO:+0200
TZNAME:CEST
DTSTART:20230326T010000
END:DAYLIGHT
BEGIN:STANDARD
TZOFFSETFROM:+0200
TZOFFSETTO:+0100
TZNAME:CET
DTSTART:20231029T010000
END:STANDARD
END:VTIMEZONE
BEGIN:VEVENT
DTSTART;VALUE=DATE:20230220
DTEND;VALUE=DATE:20230223
DTSTAMP:20260426T063149
CREATED:20230129T132826Z
LAST-MODIFIED:20230129T132826Z
UID:1408-1676851200-1677110399@magazine.saloucongress.cat
SUMMARY:El triunfo de los valientes
DESCRIPTION:Todos los eventos de marzo de más de un día está publicado como fecha de celebración el 15 de MARZO dentro del cuerpo de la entrada!! Pasa en Fira Àpat\, congreso del agua\, feria canina… Solo en castellano. Mira cuál es el problema por favor!! \n\nY sabes ya cómo hacer que se publique más de 1 fecha de un evento?? \nSalouCongressEquip de redacció
URL:https://magazine.saloucongress.cat/event/el-triunfo-de-los-valientes/
ATTACH;FMTTYPE=image/jpeg:https://magazine.saloucongress.cat/wp-content/uploads/2022/07/7.jpg
END:VEVENT
END:VCALENDAR