BEGIN:VCALENDAR
VERSION:2.0
PRODID:-//Salou Congress - ECPv6.0.1.1//NONSGML v1.0//EN
CALSCALE:GREGORIAN
METHOD:PUBLISH
X-WR-CALNAME:Salou Congress
X-ORIGINAL-URL:https://magazine.saloucongress.cat
X-WR-CALDESC:Eventos para Salou Congress
REFRESH-INTERVAL;VALUE=DURATION:PT1H
X-Robots-Tag:noindex
X-PUBLISHED-TTL:PT1H
BEGIN:VTIMEZONE
TZID:UTC
BEGIN:STANDARD
TZOFFSETFROM:+0000
TZOFFSETTO:+0000
TZNAME:UTC
DTSTART:20230101T000000
END:STANDARD
END:VTIMEZONE
BEGIN:VEVENT
DTSTART;VALUE=DATE:20230408
DTEND;VALUE=DATE:20230507
DTSTAMP:20260426T034244
CREATED:20221011T152937Z
LAST-MODIFIED:20230129T133752Z
UID:1383-1680912000-1683417599@magazine.saloucongress.cat
SUMMARY:Congreso de economía en los municipios turísticos
DESCRIPTION:SalouCongress organiza sus primeras jornadas de índole económica. Se tratarán temas de innovación y nuevas tecnologías para garantizar el desarrollo sostenible de los municipios turísticos. \nSalouCongressEquip de redacció
URL:https://magazine.saloucongress.cat/event/congreso-de-economia-en-los-municipios-turisticos/
LOCATION:Sala Eutiches
ATTACH;FMTTYPE=image/jpeg:https://magazine.saloucongress.cat/wp-content/uploads/2022/10/XL-COMPRES.jpg
END:VEVENT
END:VCALENDAR